BEGIN:VCALENDAR
VERSION:2.0
PRODID:-//Squarespace Inc/Squarespace 6//v6//EN
BEGIN:VEVENT
UID:5b55742703ce640beca3e4c6@squarespace.com
DTSTAMP:20181023T180418Z
DTSTART:20181006T230000Z
DTEND:20181210T010000Z
SUMMARY:Coast Salish Exhibition at the Seattle Public Library
GEO:40.720756;-74.000761
LOCATION:Seattle Public Library\, 1000 4th Avenue\, Seattle\, WA\, 98104\, 
 United States
END:VEVENT
END:VCALENDAR
