BEGIN:VCALENDAR
VERSION:2.0
PRODID:-//Squarespace Inc/Squarespace 6//v6//EN
BEGIN:VEVENT
UID:5bb426524785d3ef5427d481@squarespace.com
DTSTAMP:20181003T021600Z
DTSTART:20181124T190000Z
DTEND:20181125T010000Z
SUMMARY:Fox Anthony Spears - Artist in Residence at the Seattle Public Libr
 ary
GEO:47.6066;-122.332984
LOCATION:Seattle Public Library\, 1000 4th Avenue\, Seattle\, WA\, 98104\, 
 United States
END:VEVENT
END:VCALENDAR
