BEGIN:VCALENDAR
VERSION:2.0
PRODID:-//Squarespace Inc/Squarespace 6//v6//EN
BEGIN:VEVENT
UID:5b6bafb10ebbe85effef2c6a@squarespace.com
DTSTAMP:20190707T034336Z
DTSTART:20181116T020000Z
DTEND:20190112T010000Z
SUMMARY:Kanani Miyamoto at Feast Arts Center - The In-Between
GEO:47.251297;-122.456296
LOCATION:Feast Arts Center\, 1402 South 11th Street\, Tacoma\, WA\, 98405\, 
 United States
END:VEVENT
END:VCALENDAR
