BEGIN:VCALENDAR
VERSION:2.0
PRODID:-//Squarespace Inc/Squarespace 6//v6//EN
BEGIN:VEVENT
UID:5bb43ee28165f55177aa9470@squarespace.com
DTSTAMP:20181003T040501Z
DTSTART:20181116T010000Z
DTEND:20181221T050000Z
SUMMARY:Priscilla Dobler at Alma Mater
GEO:47.249921;-122.442718
LOCATION:Alma Mater\, 1322 Fawcett Ave\, Tacoma\, WA 98402
END:VEVENT
END:VCALENDAR
