BEGIN:VCALENDAR
VERSION:2.0
PRODID:-//Squarespace Inc/Squarespace 6//v6//EN
BEGIN:VEVENT
UID:5bcfd90271c10b8d31a9bf94@squarespace.com
DTSTAMP:20181108T041233Z
DTSTART:20181118T000000Z
DTEND:20181118T033000Z
SUMMARY:Blue Jay Brings Back the Moon - A Na’ah Illahee Fund Event
GEO:47.667957;-122.418004
LOCATION:Daybreak Star Cultural Center\, 5011 Bernie Whitebear Way\, Seattl
 e\, WA\, 98199\, United States
END:VEVENT
END:VCALENDAR
