BEGIN:VCALENDAR
VERSION:2.0
PRODID:-//Squarespace Inc/Squarespace 6//v6//EN
BEGIN:VEVENT
UID:5b557bb9562fa7375411d4a4@squarespace.com
DTSTAMP:20180723T072054Z
DTSTART:20181103T180000Z
DTEND:20181104T010000Z
SUMMARY:yəhaw̓ at Short Run Seattle
GEO:47.621938;-122.351744
LOCATION:Fisher Pavilion at Seattle Center\, 305 Harrison Street\, Seattle\
 , WA\, 98109\, United States
END:VEVENT
END:VCALENDAR
