BEGIN:VCALENDAR
VERSION:2.0
PRODID:-//Squarespace Inc/Squarespace 6//v6//EN
BEGIN:VEVENT
UID:5be3b150cd836622567ffa22@squarespace.com
DTSTAMP:20181108T034745Z
DTSTART:20181109T020000Z
DTEND:20181109T043000Z
SUMMARY:Honoring the Wisdom of Our Elders
GEO:47.6066;-122.332984
LOCATION:Seattle Public Library\, 1000 4th Avenue\, Seattle\, WA
END:VEVENT
END:VCALENDAR
