BEGIN:VCALENDAR
VERSION:2.0
PRODID:-//Squarespace Inc/Squarespace 6//v6//EN
BEGIN:VEVENT
UID:5b557ced8a922d868e055a0a@squarespace.com
DTSTAMP:20181111T204946Z
DTSTART:20181201T193000Z
DTEND:20181202T023000Z
SUMMARY:Indigenous Family Day\, Artists in Residence Panel\, Rumble Film Sc
 reening
GEO:47.606701;-122.332501
LOCATION:Seattle Public Library\, 1000 4th Avenue\, Seattle\, WA\, 98104\, 
 United States
END:VEVENT
END:VCALENDAR
