BEGIN:VCALENDAR
VERSION:2.0
PRODID:-//Squarespace Inc/Squarespace 6//v6//EN
BEGIN:VEVENT
UID:5b556f078a922d868e042e1c@squarespace.com
DTSTAMP:20180808T060445Z
DTSTART:20181116T020000Z
DTEND:20181116T060000Z
SUMMARY:Monthly Co-Working Sessions in Tacoma
GEO:47.249921;-122.442718
LOCATION:Alma Mater Tacoma\, 1322 Fawcett Avenue\, Tacoma\, WA\, 98402\, Un
 ited States
END:VEVENT
END:VCALENDAR
